BEGIN:VCALENDAR
VERSION:2.0
PRODID:-//Escondite Espacio Gastronómico - ECPv6.15.20//NONSGML v1.0//EN
CALSCALE:GREGORIAN
METHOD:PUBLISH
X-ORIGINAL-URL:https://espacioescondite.es
X-WR-CALDESC:Eventos para Escondite Espacio Gastronómico
REFRESH-INTERVAL;VALUE=DURATION:PT1H
X-Robots-Tag:noindex
X-PUBLISHED-TTL:PT1H
BEGIN:VTIMEZONE
TZID:Europe/Madrid
BEGIN:DAYLIGHT
TZOFFSETFROM:+0100
TZOFFSETTO:+0200
TZNAME:CEST
DTSTART:20250330T010000
END:DAYLIGHT
BEGIN:STANDARD
TZOFFSETFROM:+0200
TZOFFSETTO:+0100
TZNAME:CET
DTSTART:20251026T010000
END:STANDARD
BEGIN:DAYLIGHT
TZOFFSETFROM:+0100
TZOFFSETTO:+0200
TZNAME:CEST
DTSTART:20260329T010000
END:DAYLIGHT
BEGIN:STANDARD
TZOFFSETFROM:+0200
TZOFFSETTO:+0100
TZNAME:CET
DTSTART:20261025T010000
END:STANDARD
BEGIN:DAYLIGHT
TZOFFSETFROM:+0100
TZOFFSETTO:+0200
TZNAME:CEST
DTSTART:20270328T010000
END:DAYLIGHT
BEGIN:STANDARD
TZOFFSETFROM:+0200
TZOFFSETTO:+0100
TZNAME:CET
DTSTART:20271031T010000
END:STANDARD
END:VTIMEZONE
BEGIN:VEVENT
DTSTART;TZID=Europe/Madrid:20260305T200000
DTEND;TZID=Europe/Madrid:20260305T235900
DTSTAMP:20260422T090142
CREATED:20260210T103006Z
LAST-MODIFIED:20260208T130203Z
UID:10000152-1772740800-1772755140@espacioescondite.es
SUMMARY:Taller de Cocina Tailandesa
DESCRIPTION:¡Bienvenido a un viaje gastronómico directo al corazón de tu estómago! \nTaller de Cocina Tailandesa \nEscondite Espacio Gastronómico te ofrece en cada uno de sus talleres una experiencia inmersiva única\, cocinada con la gastronomía más original\, creativa y deliciosa de Huelva. A manos de nuestro chef Francisco José Rabazo Sánchez\, aprenderás de primera mano (tengas el nivel que tengas) elaboraciones llenas de sabor y que entran solas por los ojos. \n¡Prepárate para vivir una experiencia que va mucho más allá de aprender recetas! Es una inmersión cultural\, un momento para disfrutar entre amigos y un reto guiado donde conocerás los secretos de la cocina más top. Por eso\, disfrutarás en este taller de: \n\nBienvenida y explicación del taller en nuestras instalaciones\, con los utensilios (tabla\, cuchillo y mandil por persona) y materia prima lista para ponerte manos a la obra.\nBebida incluida una vez comenzado el taller.\n4 horas de una experiencia culinaria cercana\, divertida y llena de sabor. ¡Te aseguramos que el tiempo se te pasará volando!\nNuestro mejor chef te guiará paso a paso en cada elaboración. Tengas el nivel que tengas\, te aseguramos que te dejarás llevar por el universo de la cocina.\nBebidas incluidas durante la realización del taller. Es un momento de celebración entre amigos y amantes de la cocina. Por eso\, ¡hay que brindar!\nDegustación de tus propias elaboraciones supervisadas por nuestro chef. La satisfacción de saborear y llenar tu estómago con nuestras recetas más top es indescriptible.\nRecetas en pdf para que puedas hacerlas de nuevo en tu casa y así sorprender a más de una persona con tus dotes culinarias aprendidas en Escondite.\n\nTemario\nPoh Pia Sod (Rollitos Tai)\nSatay de pollo\nPad Tai de pollo\nMai Tai \nPolítica de cancelación\nLas cancelaciones deben comunicarse con al menos 48 horas de antelación. No se realizan devoluciones\, pero se permite cambiar la fecha\, el tipo de taller o ceder la plaza a otra persona.\nEn caso de que el taller se cancele por parte de Escondite (por no alcanzar el mínimo de plazas o por causa de fuerza mayor)\, se ofrecerá cambio de taller o devolución del importe. \nCondiciones de participaciónRogamos máxima puntualidad\, llegando entre 15 y 10 minutos antes del inicio del taller.\nLa puntualidad es clave para comenzar a tiempo y aprovechar cada momento. \nInformación adicional: Para más detalles\, consulte los Términos y Condiciones en: https://espacioescondite.es/terminos-y-condiciones/.
URL:https://espacioescondite.es/talleres/taller-de-cocina-tailandesa-11/
LOCATION:Escondite – Espacio Gastronomico\, C/ Aragón\, 29 Local 2º\, Huelva\, Huelva\, 21002\, Spain
CATEGORIES:Talleres,Talleres y Cursos de Cocina asiática,Talleres y Cursos de Cocina Tailandesa
ATTACH;FMTTYPE=image/jpeg:https://espacioescondite.es/wp-content/uploads/2025/03/EL-ESCONDITE-SET-3045-scaled.jpg
END:VEVENT
BEGIN:VEVENT
DTSTART;TZID=Europe/Madrid:20260306T200000
DTEND;TZID=Europe/Madrid:20260306T235900
DTSTAMP:20260422T090142
CREATED:20260210T103000Z
LAST-MODIFIED:20260208T130230Z
UID:10000153-1772827200-1772841540@espacioescondite.es
SUMMARY:Taller de Noodles & Dumplings
DESCRIPTION:¡Bienvenido a un viaje gastronómico directo al corazón de tu estómago! \nTaller de Noodles & Dumplings\nEscondite Espacio Gastronómico te ofrece en cada uno de sus talleres una experiencia inmersiva única\, cocinada con la gastronomía más original\, creativa y deliciosa de Huelva. A manos de nuestro chef Francisco José Rabazo Sánchez\, aprenderás de primera mano (tengas el nivel que tengas) elaboraciones llenas de sabor y que entran solas por los ojos. \n¡Prepárate para vivir una experiencia que va mucho más allá de aprender recetas! Es una inmersión cultural\, un momento para disfrutar entre amigos y un reto guiado donde conocerás los secretos de la cocina más top. Por eso\, disfrutarás en este taller de: \n\nBienvenida y explicación del taller en nuestras instalaciones\, con los utensilios (tabla\, cuchillo y mandil por persona) y materia prima lista para ponerte manos a la obra.\nBebida incluida una vez comenzado el taller.\n4 horas de una experiencia culinaria cercana\, divertida y llena de sabor. ¡Te aseguramos que el tiempo se te pasará volando!\nNuestro mejor chef te guiará paso a paso en cada elaboración. Tengas el nivel que tengas\, te aseguramos que te dejarás llevar por el universo de la cocina.\nBebidas incluidas durante la realización del taller. Es un momento de celebración entre amigos y amantes de la cocina. Por eso\, ¡hay que brindar!\nDegustación de tus propias elaboraciones supervisadas por nuestro chef. La satisfacción de saborear y llenar tu estómago con nuestras recetas más top es indescriptible.\nRecetas en pdf para que puedas hacerlas de nuevo en tu casa y así sorprender a más de una persona con tus dotes culinarias aprendidas en Escondite.\n\nTemario\n[ En proceso ] \nPolítica de cancelación\nLas cancelaciones deben comunicarse con al menos 48 horas de antelación. No se realizan devoluciones\, pero se permite cambiar la fecha\, el tipo de taller o ceder la plaza a otra persona.\nEn caso de que el taller se cancele por parte de Escondite (por no alcanzar el mínimo de plazas o por causa de fuerza mayor)\, se ofrecerá cambio de taller o devolución del importe. \nCondiciones de participación\nRogamos máxima puntualidad\, llegando entre 15 y 10 minutos antes del inicio del taller.\nLa puntualidad es clave para comenzar a tiempo y aprovechar cada momento. \nInformación adicional: Para más detalles\, consulte los Términos y Condiciones en: https://espacioescondite.es/terminos-y-condiciones/.
URL:https://espacioescondite.es/talleres/taller-de-noodles-dumplings-2/
LOCATION:Escondite – Espacio Gastronomico\, C/ Aragón\, 29 Local 2º\, Huelva\, Huelva\, 21002\, Spain
CATEGORIES:Talleres,Talleres y Cursos de Cocina asiática
ATTACH;FMTTYPE=image/jpeg:https://espacioescondite.es/wp-content/uploads/2026/01/WhatsApp-Image-2025-12-30-at-13.48.33.jpeg
END:VEVENT
BEGIN:VEVENT
DTSTART;TZID=Europe/Madrid:20260312T200000
DTEND;TZID=Europe/Madrid:20260312T235900
DTSTAMP:20260422T090142
CREATED:20260210T103038Z
LAST-MODIFIED:20260208T130507Z
UID:10000156-1773345600-1773359940@espacioescondite.es
SUMMARY:Taller de Cocina Japonesa caliente
DESCRIPTION:¡Bienvenido a un viaje gastronómico directo al corazón de tu estómago! \nTaller de Cocina Japonesa caliente\nEscondite Espacio Gastronómico te ofrece en cada uno de sus talleres una experiencia inmersiva única\, cocinada con la gastronomía más original\, creativa y deliciosa de Huelva. A manos de nuestro chef Francisco José Rabazo Sánchez\, aprenderás de primera mano (tengas el nivel que tengas) elaboraciones llenas de sabor y que entran solas por los ojos. \n¡Prepárate para vivir una experiencia que va mucho más allá de aprender recetas! Es una inmersión cultural\, un momento para disfrutar entre amigos y un reto guiado donde conocerás los secretos de la cocina más top. Por eso\, disfrutarás en este taller de: \n\nBienvenida y explicación del taller en nuestras instalaciones\, con los utensilios (tabla\, cuchillo y mandil por persona) y materia prima lista para ponerte manos a la obra.\nBebida incluida una vez comenzado el taller.\n4 horas de una experiencia culinaria cercana\, divertida y llena de sabor. ¡Te aseguramos que el tiempo se te pasará volando!\nNuestro mejor chef te guiará paso a paso en cada elaboración. Tengas el nivel que tengas\, te aseguramos que te dejarás llevar por el universo de la cocina.\nBebidas incluidas durante la realización del taller. Es un momento de celebración entre amigos y amantes de la cocina. Por eso\, ¡hay que brindar!\nDegustación de tus propias elaboraciones supervisadas por nuestro chef. La satisfacción de saborear y llenar tu estómago con nuestras recetas más top es indescriptible.\nRecetas en pdf para que puedas hacerlas de nuevo en tu casa y así sorprender a más de una persona con tus dotes culinarias aprendidas en Escondite.\n\nTemario\nGyozas crujientes\nOkonomayaki\nBrochetas en salsa tonkatsu\nSalmón teriyaki \nPolítica de cancelación\nLas cancelaciones deben comunicarse con al menos 48 horas de antelación. No se realizan devoluciones\, pero se permite cambiar la fecha\, el tipo de taller o ceder la plaza a otra persona.\nEn caso de que el taller se cancele por parte de Escondite (por no alcanzar el mínimo de plazas o por causa de fuerza mayor)\, se ofrecerá cambio de taller o devolución del importe. \nCondiciones de participación\nRogamos máxima puntualidad\, llegando entre 15 y 10 minutos antes del inicio del taller.\nLa puntualidad es clave para comenzar a tiempo y aprovechar cada momento. \nInformación adicional: Para más detalles\, consulte los Términos y Condiciones en: https://espacioescondite.es/terminos-y-condiciones/.
URL:https://espacioescondite.es/talleres/taller-de-cocina-japonesa-caliente-10/
LOCATION:Escondite – Espacio Gastronomico\, C/ Aragón\, 29 Local 2º\, Huelva\, Huelva\, 21002\, Spain
CATEGORIES:Talleres,Talleres y Cursos de Cocina Japonesa
ATTACH;FMTTYPE=image/jpeg:https://espacioescondite.es/wp-content/uploads/2026/01/EL-ESCONDITE-SET-3190-scaled.jpg
END:VEVENT
BEGIN:VEVENT
DTSTART;TZID=Europe/Madrid:20260314T200000
DTEND;TZID=Europe/Madrid:20260314T235900
DTSTAMP:20260422T090142
CREATED:20260210T103037Z
LAST-MODIFIED:20260208T130539Z
UID:10000157-1773518400-1773532740@espacioescondite.es
SUMMARY:Taller Más Cocina Tailandesa
DESCRIPTION:¡Bienvenido a un viaje gastronómico directo al corazón de tu estómago! \nTaller de Más Cocina Tailandesa\nEscondite Espacio Gastronómico te ofrece en cada uno de sus talleres una experiencia inmersiva única\, cocinada con la gastronomía más original\, creativa y deliciosa de Huelva. A manos de nuestro chef Francisco José Rabazo Sánchez\, aprenderás de primera mano (tengas el nivel que tengas) elaboraciones llenas de sabor y que entran solas por los ojos. \n¡Prepárate para vivir una experiencia que va mucho más allá de aprender recetas! Es una inmersión cultural\, un momento para disfrutar entre amigos y un reto guiado donde conocerás los secretos de la cocina más top. Por eso\, disfrutarás en este taller de: \n\nBienvenida y explicación del taller en nuestras instalaciones\, con los utensilios (tabla\, cuchillo y mandil por persona) y materia prima lista para ponerte manos a la obra.\nBebida incluida una vez comenzado el taller.\n4 horas de una experiencia culinaria cercana\, divertida y llena de sabor. ¡Te aseguramos que el tiempo se te pasará volando!\nNuestro mejor chef te guiará paso a paso en cada elaboración. Tengas el nivel que tengas\, te aseguramos que te dejarás llevar por el universo de la cocina.\nBebidas incluidas durante la realización del taller. Es un momento de celebración entre amigos y amantes de la cocina. Por eso\, ¡hay que brindar!\nDegustación de tus propias elaboraciones supervisadas por nuestro chef. La satisfacción de saborear y llenar tu estómago con nuestras recetas más top es indescriptible.\nRecetas en pdf para que puedas hacerlas de nuevo en tu casa y así sorprender a más de una persona con tus dotes culinarias aprendidas en Escondite.\n\nTemario\nEnsalada Som Tam\nCurry rojo de carrilleras\nCurry verde de langostinos y panceta\nArroz jazmín \nPolítica de cancelación\nLas cancelaciones deben comunicarse con al menos 48 horas de antelación. No se realizan devoluciones\, pero se permite cambiar la fecha\, el tipo de taller o ceder la plaza a otra persona.\nEn caso de que el taller se cancele por parte de Escondite (por no alcanzar el mínimo de plazas o por causa de fuerza mayor)\, se ofrecerá cambio de taller o devolución del importe. \nCondiciones de participación\nRogamos máxima puntualidad\, llegando entre 15 y 10 minutos antes del inicio del taller.\nLa puntualidad es clave para comenzar a tiempo y aprovechar cada momento. \nInformación adicional: Para más detalles\, consulte los Términos y Condiciones en: https://espacioescondite.es/terminos-y-condiciones/.
URL:https://espacioescondite.es/talleres/taller-mas-cocina-tailandesa-5/
LOCATION:Escondite – Espacio Gastronomico\, C/ Aragón\, 29 Local 2º\, Huelva\, Huelva\, 21002\, Spain
CATEGORIES:Talleres,Talleres y Cursos de Cocina asiática,Talleres y Cursos de Cocina Tailandesa
ATTACH;FMTTYPE=image/jpeg:https://espacioescondite.es/wp-content/uploads/2025/03/Curry-verde.jpg
END:VEVENT
BEGIN:VEVENT
DTSTART;TZID=Europe/Madrid:20260320T200000
DTEND;TZID=Europe/Madrid:20260320T235900
DTSTAMP:20260422T090142
CREATED:20260210T103024Z
LAST-MODIFIED:20260208T130752Z
UID:10000160-1774036800-1774051140@espacioescondite.es
SUMMARY:Taller de Cocina Nikkei
DESCRIPTION:¡Bienvenido a un viaje gastronómico directo al corazón de tu estómago! \nTaller de Cocina Nikkei \nEscondite Espacio Gastronómico te ofrece en cada uno de sus talleres una experiencia inmersiva única\, cocinada con la gastronomía más original\, creativa y deliciosa de Huelva. A manos de nuestro chef Francisco José Rabazo Sánchez\, aprenderás de primera mano (tengas el nivel que tengas) elaboraciones llenas de sabor y que entran solas por los ojos. \n¡Prepárate para vivir una experiencia que va mucho más allá de aprender recetas! Es una inmersión cultural\, un momento para disfrutar entre amigos y un reto guiado donde conocerás los secretos de la cocina más top. Por eso\, disfrutarás en este taller de: \n\nBienvenida y explicación del taller en nuestras instalaciones\, con los utensilios (tabla\, cuchillo y mandil por persona) y materia prima lista para ponerte manos a la obra.\nBebida incluida una vez comenzado el taller.\n4 horas de una experiencia culinaria cercana\, divertida y llena de sabor. ¡Te aseguramos que el tiempo se te pasará volando!\nNuestro mejor chef te guiará paso a paso en cada elaboración. Tengas el nivel que tengas\, te aseguramos que te dejarás llevar por el universo de la cocina.\nBebidas incluidas durante la realización del taller. Es un momento de celebración entre amigos y amantes de la cocina. Por eso\, ¡hay que brindar!\nDegustación de tus propias elaboraciones supervisadas por nuestro chef. La satisfacción de saborear y llenar tu estómago con nuestras recetas más top es indescriptible.\nRecetas en pdf para que puedas hacerlas de nuevo en tu casa y así sorprender a más de una persona con tus dotes culinarias aprendidas en Escondite.\n\nTemario: \nUsuzukuri de caballa con ponzu de tamarindo\nBrochetas de pez mantequilla en miel de panela y sésamo\nDorada sudada con almejas y miso \nPolítica de cancelación\nLas cancelaciones deben comunicarse con al menos 48 horas de antelación. No se realizan devoluciones\, pero se permite cambiar la fecha\, el tipo de taller o ceder la plaza a otra persona.\nEn caso de que el taller se cancele por parte de Escondite (por no alcanzar el mínimo de plazas o por causa de fuerza mayor)\, se ofrecerá cambio de taller o devolución del importe. \nCondiciones de participación\nRogamos máxima puntualidad\, llegando entre 15 y 10 minutos antes del inicio del taller.\nLa puntualidad es clave para comenzar a tiempo y aprovechar cada momento. \nInformación adicional: Para más detalles\, consulte los Términos y Condiciones en: https://espacioescondite.es/terminos-y-condiciones/.
URL:https://espacioescondite.es/talleres/taller-de-cocina-nikkei-5/
LOCATION:Escondite – Espacio Gastronomico\, C/ Aragón\, 29 Local 2º\, Huelva\, Huelva\, 21002\, Spain
CATEGORIES:Talleres,Talleres y Cursos de Cocina asiática,Talleres y Cursos de Cocina Nikkei
ATTACH;FMTTYPE=image/jpeg:https://espacioescondite.es/wp-content/uploads/2025/04/PEZ-mantequilla-e1744798734660.jpeg
END:VEVENT
BEGIN:VEVENT
DTSTART;TZID=Europe/Madrid:20260322T120000
DTEND;TZID=Europe/Madrid:20260322T160000
DTSTAMP:20260422T090142
CREATED:20260210T103019Z
LAST-MODIFIED:20260208T130934Z
UID:10000163-1774180800-1774195200@espacioescondite.es
SUMMARY:Taller de Cocina Ramen & Bao
DESCRIPTION:¡Bienvenido a un viaje gastronómico directo al corazón de tu estómago! \nTaller de Cocina Ramen & Bao\nEscondite Espacio Gastronómico te ofrece en cada uno de sus talleres una experiencia inmersiva única\, cocinada con la gastronomía más original\, creativa y deliciosa de Huelva. A manos de nuestro chef Francisco José Rabazo Sánchez\, aprenderás de primera mano (tengas el nivel que tengas) elaboraciones llenas de sabor y que entran solas por los ojos. \n¡Prepárate para vivir una experiencia que va mucho más allá de aprender recetas! Es una inmersión cultural\, un momento para disfrutar entre amigos y un reto guiado donde conocerás los secretos de la cocina más top. Por eso\, disfrutarás en este taller de: \n\nBienvenida y explicación del taller en nuestras instalaciones\, con los utensilios (tabla\, cuchillo y mandil por persona) y materia prima lista para ponerte manos a la obra.\nBebida incluida una vez comenzado el taller.\n4 horas de una experiencia culinaria cercana\, divertida y llena de sabor. ¡Te aseguramos que el tiempo se te pasará volando!\nNuestro mejor chef te guiará paso a paso en cada elaboración. Tengas el nivel que tengas\, te aseguramos que te dejarás llevar por el universo de la cocina.\nBebidas incluidas durante la realización del taller. Es un momento de celebración entre amigos y amantes de la cocina. Por eso\, ¡hay que brindar!\nDegustación de tus propias elaboraciones supervisadas por nuestro chef. La satisfacción de saborear y llenar tu estómago con nuestras recetas más top es indescriptible.\nRecetas en pdf para que puedas hacerlas de nuevo en tu casa y así sorprender a más de una persona con tus dotes culinarias aprendidas en Escondite.\n\nTemario\nTonkotsu caldo\nShoyu caldo\nMiso caldo\nBao panceta \nPolítica de cancelación\nLas cancelaciones deben comunicarse con al menos 48 horas de antelación. No se realizan devoluciones\, pero se permite cambiar la fecha\, el tipo de taller o ceder la plaza a otra persona.\nEn caso de que el taller se cancele por parte de Escondite (por no alcanzar el mínimo de plazas o por causa de fuerza mayor)\, se ofrecerá cambio de taller o devolución del importe. \nCondiciones de participación\nRogamos máxima puntualidad\, llegando entre 15 y 10 minutos antes del inicio del taller.\nLa puntualidad es clave para comenzar a tiempo y aprovechar cada momento. \nInformación adicional: Para más detalles\, consulte los Términos y Condiciones en: https://espacioescondite.es/terminos-y-condiciones/.
URL:https://espacioescondite.es/talleres/taller-de-cocina-ramen-bao-5/
LOCATION:Escondite – Espacio Gastronomico\, C/ Aragón\, 29 Local 2º\, Huelva\, Huelva\, 21002\, Spain
CATEGORIES:Talleres,Talleres y Cursos de Ramen
ATTACH;FMTTYPE=image/jpeg:https://espacioescondite.es/wp-content/uploads/2025/01/8.-Taller-de-Ramen.jpeg
END:VEVENT
BEGIN:VEVENT
DTSTART;TZID=Europe/Madrid:20260326T200000
DTEND;TZID=Europe/Madrid:20260326T235900
DTSTAMP:20260422T090142
CREATED:20260210T103025Z
LAST-MODIFIED:20260208T131000Z
UID:10000164-1774555200-1774569540@espacioescondite.es
SUMMARY:Taller de Cocina China
DESCRIPTION:¡Bienvenido a un viaje gastronómico directo al corazón de tu estómago! \nTaller de Cocina China \nEscondite Espacio Gastronómico te ofrece en cada uno de sus talleres una experiencia inmersiva única\, cocinada con la gastronomía más original\, creativa y deliciosa de Huelva. A manos de nuestro chef Francisco José Rabazo Sánchez\, aprenderás de primera mano (tengas el nivel que tengas) elaboraciones llenas de sabor y que entran solas por los ojos. \n¡Prepárate para vivir una experiencia que va mucho más allá de aprender recetas! Es una inmersión cultural\, un momento para disfrutar entre amigos y un reto guiado donde conocerás los secretos de la cocina más top. Por eso\, disfrutarás en este taller de: \n\nBienvenida y explicación del taller en nuestras instalaciones\, con los utensilios (tabla\, cuchillo y mandil por persona) y materia prima lista para ponerte manos a la obra.\nBebida incluida una vez comenzado el taller.\n4 horas de una experiencia culinaria cercana\, divertida y llena de sabor. ¡Te aseguramos que el tiempo se te pasará volando!\nNuestro mejor chef te guiará paso a paso en cada elaboración. Tengas el nivel que tengas\, te aseguramos que te dejarás llevar por el universo de la cocina.\nBebidas incluidas durante la realización del taller. Es un momento de celebración entre amigos y amantes de la cocina. Por eso\, ¡hay que brindar!\nDegustación de tus propias elaboraciones supervisadas por nuestro chef. La satisfacción de saborear y llenar tu estómago con nuestras recetas más top es indescriptible.\nRecetas en pdf para que puedas hacerlas de nuevo en tu casa y así sorprender a más de una persona con tus dotes culinarias aprendidas en Escondite.\n\nTemario: \nMantou\nChow Mein de Pollo con Verduras\nSopa Wonton\nCostillas de cerdo picantes agridulces \nPolítica de cancelación\nLas cancelaciones deben comunicarse con al menos 48 horas de antelación. No se realizan devoluciones\, pero se permite cambiar la fecha\, el tipo de taller o ceder la plaza a otra persona.\nEn caso de que el taller se cancele por parte de Escondite (por no alcanzar el mínimo de plazas o por causa de fuerza mayor)\, se ofrecerá cambio de taller o devolución del importe. \nCondiciones de participación\nRogamos máxima puntualidad\, llegando entre 15 y 10 minutos antes del inicio del taller.\nLa puntualidad es clave para comenzar a tiempo y aprovechar cada momento. \nInformación adicional: Para más detalles\, consulte los Términos y Condiciones en: https://espacioescondite.es/terminos-y-condiciones/.
URL:https://espacioescondite.es/talleres/taller-de-cocina-china/
LOCATION:Escondite – Espacio Gastronomico\, C/ Aragón\, 29 Local 2º\, Huelva\, Huelva\, 21002\, Spain
CATEGORIES:Talleres,Talleres y Cursos de Cocina China
ATTACH;FMTTYPE=image/jpeg:https://espacioescondite.es/wp-content/uploads/2025/11/bf566c4dd96992af8920bff316428157.jpg
END:VEVENT
END:VCALENDAR