BEGIN:VCALENDAR
VERSION:2.0
PRODID:-//Escondite Espacio Gastronómico - ECPv6.15.20//NONSGML v1.0//EN
CALSCALE:GREGORIAN
METHOD:PUBLISH
X-WR-CALNAME:Escondite Espacio Gastronómico
X-ORIGINAL-URL:https://espacioescondite.es
X-WR-CALDESC:Eventos para Escondite Espacio Gastronómico
REFRESH-INTERVAL;VALUE=DURATION:PT1H
X-Robots-Tag:noindex
X-PUBLISHED-TTL:PT1H
BEGIN:VTIMEZONE
TZID:Europe/Madrid
BEGIN:DAYLIGHT
TZOFFSETFROM:+0100
TZOFFSETTO:+0200
TZNAME:CEST
DTSTART:20250330T010000
END:DAYLIGHT
BEGIN:STANDARD
TZOFFSETFROM:+0200
TZOFFSETTO:+0100
TZNAME:CET
DTSTART:20251026T010000
END:STANDARD
BEGIN:DAYLIGHT
TZOFFSETFROM:+0100
TZOFFSETTO:+0200
TZNAME:CEST
DTSTART:20260329T010000
END:DAYLIGHT
BEGIN:STANDARD
TZOFFSETFROM:+0200
TZOFFSETTO:+0100
TZNAME:CET
DTSTART:20261025T010000
END:STANDARD
BEGIN:DAYLIGHT
TZOFFSETFROM:+0100
TZOFFSETTO:+0200
TZNAME:CEST
DTSTART:20270328T010000
END:DAYLIGHT
BEGIN:STANDARD
TZOFFSETFROM:+0200
TZOFFSETTO:+0100
TZNAME:CET
DTSTART:20271031T010000
END:STANDARD
END:VTIMEZONE
BEGIN:VEVENT
DTSTART;TZID=Europe/Madrid:20260207T200000
DTEND;TZID=Europe/Madrid:20260207T235900
DTSTAMP:20260422T105400
CREATED:20260107T103008Z
LAST-MODIFIED:20260203T220035Z
UID:10000139-1770494400-1770508740@espacioescondite.es
SUMMARY:Taller de Cocina Japonesa caliente
DESCRIPTION:¡Bienvenido a un viaje gastronómico directo al corazón de tu estómago! \nTaller de Cocina Japonesa caliente\nEscondite Espacio Gastronómico te ofrece en cada uno de sus talleres una experiencia inmersiva única\, cocinada con la gastronomía más original\, creativa y deliciosa de Huelva. A manos de nuestro chef Francisco José Rabazo Sánchez\, aprenderás de primera mano (tengas el nivel que tengas) elaboraciones llenas de sabor y que entran solas por los ojos. \n¡Prepárate para vivir una experiencia que va mucho más allá de aprender recetas! Es una inmersión cultural\, un momento para disfrutar entre amigos y un reto guiado donde conocerás los secretos de la cocina más top. Por eso\, disfrutarás en este taller de: \n\nBienvenida y explicación del taller en nuestras instalaciones\, con los utensilios (tabla\, cuchillo y mandil por persona) y materia prima lista para ponerte manos a la obra.\nBebida incluida una vez comenzado el taller.\n4 horas de una experiencia culinaria cercana\, divertida y llena de sabor. ¡Te aseguramos que el tiempo se te pasará volando!\nNuestro mejor chef te guiará paso a paso en cada elaboración. Tengas el nivel que tengas\, te aseguramos que te dejarás llevar por el universo de la cocina.\nBebidas incluidas durante la realización del taller. Es un momento de celebración entre amigos y amantes de la cocina. Por eso\, ¡hay que brindar!\nDegustación de tus propias elaboraciones supervisadas por nuestro chef. La satisfacción de saborear y llenar tu estómago con nuestras recetas más top es indescriptible.\nRecetas en pdf para que puedas hacerlas de nuevo en tu casa y así sorprender a más de una persona con tus dotes culinarias aprendidas en Escondite.\n\nTemario\nGyozas crujientes\nOkonomayaki\nBrochetas en salsa tonkatsu\nSalmón teriyaki \nPolítica de cancelación\nLas cancelaciones deben comunicarse con al menos 48 horas de antelación. No se realizan devoluciones\, pero se permite cambiar la fecha\, el tipo de taller o ceder la plaza a otra persona.\nEn caso de que el taller se cancele por parte de Escondite (por no alcanzar el mínimo de plazas o por causa de fuerza mayor)\, se ofrecerá cambio de taller o devolución del importe. \nCondiciones de participación\nRogamos máxima puntualidad\, llegando entre 15 y 10 minutos antes del inicio del taller.\nLa puntualidad es clave para comenzar a tiempo y aprovechar cada momento.
URL:https://espacioescondite.es/talleres/taller-de-cocina-japonesa-caliente-9/
LOCATION:Escondite – Espacio Gastronomico\, C/ Aragón\, 29 Local 2º\, Huelva\, Huelva\, 21002\, Spain
CATEGORIES:Talleres,Talleres y Cursos de Cocina Japonesa
ATTACH;FMTTYPE=image/jpeg:https://espacioescondite.es/wp-content/uploads/2026/01/EL-ESCONDITE-SET-3190-scaled.jpg
END:VEVENT
BEGIN:VEVENT
DTSTART;TZID=Europe/Madrid:20260214T200000
DTEND;TZID=Europe/Madrid:20260214T235900
DTSTAMP:20260422T105400
CREATED:20260107T103025Z
LAST-MODIFIED:20260124T172011Z
UID:10000141-1771099200-1771113540@espacioescondite.es
SUMMARY:Taller de Noodles & Dumplings
DESCRIPTION:¡Bienvenido a un viaje gastronómico directo al corazón de tu estómago! \nTaller de Noodles & Dumplings\nEscondite Espacio Gastronómico te ofrece en cada uno de sus talleres una experiencia inmersiva única\, cocinada con la gastronomía más original\, creativa y deliciosa de Huelva. A manos de nuestro chef Francisco José Rabazo Sánchez\, aprenderás de primera mano (tengas el nivel que tengas) elaboraciones llenas de sabor y que entran solas por los ojos. \n¡Prepárate para vivir una experiencia que va mucho más allá de aprender recetas! Es una inmersión cultural\, un momento para disfrutar entre amigos y un reto guiado donde conocerás los secretos de la cocina más top. Por eso\, disfrutarás en este taller de: \n\nBienvenida y explicación del taller en nuestras instalaciones\, con los utensilios (tabla\, cuchillo y mandil por persona) y materia prima lista para ponerte manos a la obra.\nBebida incluida una vez comenzado el taller.\n4 horas de una experiencia culinaria cercana\, divertida y llena de sabor. ¡Te aseguramos que el tiempo se te pasará volando!\nNuestro mejor chef te guiará paso a paso en cada elaboración. Tengas el nivel que tengas\, te aseguramos que te dejarás llevar por el universo de la cocina.\nBebidas incluidas durante la realización del taller. Es un momento de celebración entre amigos y amantes de la cocina. Por eso\, ¡hay que brindar!\nDegustación de tus propias elaboraciones supervisadas por nuestro chef. La satisfacción de saborear y llenar tu estómago con nuestras recetas más top es indescriptible.\nRecetas en pdf para que puedas hacerlas de nuevo en tu casa y así sorprender a más de una persona con tus dotes culinarias aprendidas en Escondite.\n\nTemario\n[ En proceso ] \nPolítica de cancelación\nLas cancelaciones deben comunicarse con al menos 48 horas de antelación. No se realizan devoluciones\, pero se permite cambiar la fecha\, el tipo de taller o ceder la plaza a otra persona.\nEn caso de que el taller se cancele por parte de Escondite (por no alcanzar el mínimo de plazas o por causa de fuerza mayor)\, se ofrecerá cambio de taller o devolución del importe. \nCondiciones de participación\nEn Espacio Escondite cuidamos cada detalle ✨ Por eso\, te pedimos llegar entre 15 y 10 minutos antes del inicio del taller\, para poder empezar puntuales y disfrutar la experiencia desde el primer momento. \n 
URL:https://espacioescondite.es/talleres/taller-de-noodles-dumplings/
LOCATION:Escondite – Espacio Gastronomico\, C/ Aragón\, 29 Local 2º\, Huelva\, Huelva\, 21002\, Spain
CATEGORIES:Talleres,Talleres y Cursos de Cocina China
ATTACH;FMTTYPE=image/jpeg:https://espacioescondite.es/wp-content/uploads/2026/01/WhatsApp-Image-2025-12-30-at-13.48.33.jpeg
END:VEVENT
BEGIN:VEVENT
DTSTART;TZID=Europe/Madrid:20260220T200000
DTEND;TZID=Europe/Madrid:20260220T235900
DTSTAMP:20260422T105400
CREATED:20260107T103004Z
LAST-MODIFIED:20260203T110944Z
UID:10000143-1771617600-1771631940@espacioescondite.es
SUMMARY:Taller de Cocina Tailandesa
DESCRIPTION:¡Bienvenido a un viaje gastronómico directo al corazón de tu estómago! \nTaller de Cocina Tailandesa \nEscondite Espacio Gastronómico te ofrece en cada uno de sus talleres una experiencia inmersiva única\, cocinada con la gastronomía más original\, creativa y deliciosa de Huelva. A manos de nuestro chef Francisco José Rabazo Sánchez\, aprenderás de primera mano (tengas el nivel que tengas) elaboraciones llenas de sabor y que entran solas por los ojos. \n¡Prepárate para vivir una experiencia que va mucho más allá de aprender recetas! Es una inmersión cultural\, un momento para disfrutar entre amigos y un reto guiado donde conocerás los secretos de la cocina más top. Por eso\, disfrutarás en este taller de: \n\nBienvenida y explicación del taller en nuestras instalaciones\, con los utensilios (tabla\, cuchillo y mandil por persona) y materia prima lista para ponerte manos a la obra.\nBebida incluida una vez comenzado el taller.\n4 horas de una experiencia culinaria cercana\, divertida y llena de sabor. ¡Te aseguramos que el tiempo se te pasará volando!\nNuestro mejor chef te guiará paso a paso en cada elaboración. Tengas el nivel que tengas\, te aseguramos que te dejarás llevar por el universo de la cocina.\nBebidas incluidas durante la realización del taller. Es un momento de celebración entre amigos y amantes de la cocina. Por eso\, ¡hay que brindar!\nDegustación de tus propias elaboraciones supervisadas por nuestro chef. La satisfacción de saborear y llenar tu estómago con nuestras recetas más top es indescriptible.\nRecetas en pdf para que puedas hacerlas de nuevo en tu casa y así sorprender a más de una persona con tus dotes culinarias aprendidas en Escondite.\n\nTemario\nPoh Pia Sod (Rollitos Tai)\nSatay de pollo\nPad Tai de pollo\nMai Tai \nPolítica de cancelación\nLas cancelaciones deben comunicarse con al menos 48 horas de antelación. No se realizan devoluciones\, pero se permite cambiar la fecha\, el tipo de taller o ceder la plaza a otra persona.\nEn caso de que el taller se cancele por parte de Escondite (por no alcanzar el mínimo de plazas o por causa de fuerza mayor)\, se ofrecerá cambio de taller o devolución del importe. \nCondiciones de participación\nEn Espacio Escondite cuidamos cada detalle ✨ Por eso\, te pedimos llegar entre 15 y 10 minutos antes del inicio del taller\, para poder empezar puntuales y disfrutar la experiencia desde el primer momento.
URL:https://espacioescondite.es/talleres/taller-de-cocina-tailandesa-10/
LOCATION:Escondite – Espacio Gastronomico\, C/ Aragón\, 29 Local 2º\, Huelva\, Huelva\, 21002\, Spain
CATEGORIES:Talleres,Talleres y Cursos de Cocina Tailandesa
ATTACH;FMTTYPE=image/jpeg:https://espacioescondite.es/wp-content/uploads/2025/03/EL-ESCONDITE-SET-3045-scaled.jpg
END:VEVENT
BEGIN:VEVENT
DTSTART;TZID=Europe/Madrid:20260222T120000
DTEND;TZID=Europe/Madrid:20260222T160000
DTSTAMP:20260422T105400
CREATED:20260107T103026Z
LAST-MODIFIED:20260203T111543Z
UID:10000146-1771761600-1771776000@espacioescondite.es
SUMMARY:Taller de Cocina Ramen & Bao
DESCRIPTION:¡Bienvenido a un viaje gastronómico directo al corazón de tu estómago! \nTaller de Cocina Ramen & Bao\nEscondite Espacio Gastronómico te ofrece en cada uno de sus talleres una experiencia inmersiva única\, cocinada con la gastronomía más original\, creativa y deliciosa de Huelva. A manos de nuestro chef Francisco José Rabazo Sánchez\, aprenderás de primera mano (tengas el nivel que tengas) elaboraciones llenas de sabor y que entran solas por los ojos. \n¡Prepárate para vivir una experiencia que va mucho más allá de aprender recetas! Es una inmersión cultural\, un momento para disfrutar entre amigos y un reto guiado donde conocerás los secretos de la cocina más top. Por eso\, disfrutarás en este taller de: \n\nBienvenida y explicación del taller en nuestras instalaciones\, con los utensilios (tabla\, cuchillo y mandil por persona) y materia prima lista para ponerte manos a la obra.\nBebida incluida una vez comenzado el taller.\n4 horas de una experiencia culinaria cercana\, divertida y llena de sabor. ¡Te aseguramos que el tiempo se te pasará volando!\nNuestro mejor chef te guiará paso a paso en cada elaboración. Tengas el nivel que tengas\, te aseguramos que te dejarás llevar por el universo de la cocina.\nBebidas incluidas durante la realización del taller. Es un momento de celebración entre amigos y amantes de la cocina. Por eso\, ¡hay que brindar!\nDegustación de tus propias elaboraciones supervisadas por nuestro chef. La satisfacción de saborear y llenar tu estómago con nuestras recetas más top es indescriptible.\nRecetas en pdf para que puedas hacerlas de nuevo en tu casa y así sorprender a más de una persona con tus dotes culinarias aprendidas en Escondite.\n\nTemario\nTonkotsu caldo\nShoyu caldo\nMiso caldo\nBao panceta \nPolítica de cancelación\nLas cancelaciones deben comunicarse con al menos 48 horas de antelación. No se realizan devoluciones\, pero se permite cambiar la fecha\, el tipo de taller o ceder la plaza a otra persona.\nEn caso de que el taller se cancele por parte de Escondite (por no alcanzar el mínimo de plazas o por causa de fuerza mayor)\, se ofrecerá cambio de taller o devolución del importe. \nCondiciones de participación\nEn Espacio Escondite cuidamos cada detalle ✨ Por eso\, te pedimos llegar entre 15 y 10 minutos antes del inicio del taller\, para poder empezar puntuales y disfrutar la experiencia desde el primer momento.
URL:https://espacioescondite.es/talleres/taller-de-cocina-ramen-bao-4/
LOCATION:Escondite – Espacio Gastronomico\, C/ Aragón\, 29 Local 2º\, Huelva\, Huelva\, 21002\, Spain
CATEGORIES:Talleres,Talleres y Cursos de Ramen
ATTACH;FMTTYPE=image/jpeg:https://espacioescondite.es/wp-content/uploads/2025/01/8.-Taller-de-Ramen.jpeg
END:VEVENT
END:VCALENDAR