BEGIN:VCALENDAR
VERSION:2.0
PRODID:-//Escondite Espacio Gastronómico - ECPv6.15.20//NONSGML v1.0//EN
CALSCALE:GREGORIAN
METHOD:PUBLISH
X-WR-CALNAME:Escondite Espacio Gastronómico
X-ORIGINAL-URL:https://espacioescondite.es
X-WR-CALDESC:Eventos para Escondite Espacio Gastronómico
REFRESH-INTERVAL;VALUE=DURATION:PT1H
X-Robots-Tag:noindex
X-PUBLISHED-TTL:PT1H
BEGIN:VTIMEZONE
TZID:Europe/Madrid
BEGIN:DAYLIGHT
TZOFFSETFROM:+0100
TZOFFSETTO:+0200
TZNAME:CEST
DTSTART:20240331T010000
END:DAYLIGHT
BEGIN:STANDARD
TZOFFSETFROM:+0200
TZOFFSETTO:+0100
TZNAME:CET
DTSTART:20241027T010000
END:STANDARD
BEGIN:DAYLIGHT
TZOFFSETFROM:+0100
TZOFFSETTO:+0200
TZNAME:CEST
DTSTART:20250330T010000
END:DAYLIGHT
BEGIN:STANDARD
TZOFFSETFROM:+0200
TZOFFSETTO:+0100
TZNAME:CET
DTSTART:20251026T010000
END:STANDARD
BEGIN:DAYLIGHT
TZOFFSETFROM:+0100
TZOFFSETTO:+0200
TZNAME:CEST
DTSTART:20260329T010000
END:DAYLIGHT
BEGIN:STANDARD
TZOFFSETFROM:+0200
TZOFFSETTO:+0100
TZNAME:CET
DTSTART:20261025T010000
END:STANDARD
END:VTIMEZONE
BEGIN:VEVENT
DTSTART;TZID=Europe/Madrid:20250905T200000
DTEND;TZID=Europe/Madrid:20250905T235900
DTSTAMP:20260424T131045
CREATED:20250721T093023Z
LAST-MODIFIED:20250719T224321Z
UID:3207-1757102400-1757116740@espacioescondite.es
SUMMARY:Taller de Cocina Japonesa caliente
DESCRIPTION:Temario: \nGyozas\nGyozas crujientes\nOkonomayaki\nBrochetas en salsa yakitori\nSalmón teriyaki \nEl taller incluye: tabla y cuchillo por persona\, materia prima para realizar las elaboraciones\, mandil\, degustación y bebidas.
URL:https://espacioescondite.es/talleres/taller-de-cocina-japonesa-caliente-5/
LOCATION:Escondite – Espacio Gastronomico\, C/ Aragón\, 29 Local 2º\, Huelva\, Huelva\, 21002\, Spain
CATEGORIES:Talleres,Talleres y Cursos de Cocina Japonesa
END:VEVENT
END:VCALENDAR