BEGIN:VCALENDAR
VERSION:2.0
PRODID:-//Escondite Espacio Gastronómico - ECPv6.15.20//NONSGML v1.0//EN
CALSCALE:GREGORIAN
METHOD:PUBLISH
X-WR-CALNAME:Escondite Espacio Gastronómico
X-ORIGINAL-URL:https://espacioescondite.es
X-WR-CALDESC:Eventos para Escondite Espacio Gastronómico
REFRESH-INTERVAL;VALUE=DURATION:PT1H
X-Robots-Tag:noindex
X-PUBLISHED-TTL:PT1H
BEGIN:VTIMEZONE
TZID:Europe/Madrid
BEGIN:DAYLIGHT
TZOFFSETFROM:+0100
TZOFFSETTO:+0200
TZNAME:CEST
DTSTART:20240331T010000
END:DAYLIGHT
BEGIN:STANDARD
TZOFFSETFROM:+0200
TZOFFSETTO:+0100
TZNAME:CET
DTSTART:20241027T010000
END:STANDARD
BEGIN:DAYLIGHT
TZOFFSETFROM:+0100
TZOFFSETTO:+0200
TZNAME:CEST
DTSTART:20250330T010000
END:DAYLIGHT
BEGIN:STANDARD
TZOFFSETFROM:+0200
TZOFFSETTO:+0100
TZNAME:CET
DTSTART:20251026T010000
END:STANDARD
BEGIN:DAYLIGHT
TZOFFSETFROM:+0100
TZOFFSETTO:+0200
TZNAME:CEST
DTSTART:20260329T010000
END:DAYLIGHT
BEGIN:STANDARD
TZOFFSETFROM:+0200
TZOFFSETTO:+0100
TZNAME:CET
DTSTART:20261025T010000
END:STANDARD
END:VTIMEZONE
BEGIN:VEVENT
DTSTART;TZID=Europe/Madrid:20250322T120000
DTEND;TZID=Europe/Madrid:20250322T180000
DTSTAMP:20260425T135417
CREATED:20250204T170010Z
LAST-MODIFIED:20250410T171629Z
UID:916-1742644800-1742666400@espacioescondite.es
SUMMARY:Taller Arroces 1
DESCRIPTION:Temario: \nRissoto de setas\nArroz negro\nCaldo de pescado\nArroz caldoso de mariscos \nEl taller incluye: tabla y cuchillo por persona\, materia prima para realizar las elaboraciones\, mandil\, degustación y bebidas.
URL:https://espacioescondite.es/talleres/taller-arroces-1/
CATEGORIES:Talleres,Talleres y Cursos de Arroces
ATTACH;FMTTYPE=image/jpeg:https://espacioescondite.es/wp-content/uploads/2025/01/3.-Taller-Arroces-1.jpg
END:VEVENT
END:VCALENDAR